BEGIN:VCALENDAR
VERSION:2.0
PRODID:-//Sabre//Sabre VObject 4.5.6//EN
CALSCALE:GREGORIAN
BEGIN:VEVENT
UID:sabre-vobject-d93f970d-65a4-46cd-a23f-f7e70b095be5
DTSTAMP:20260421T035037Z
SUMMARY:Hallertauer Hopfenerlebnis
DESCRIPTION:https://osterrieder.de/reiseangebote/hallertauer-hopfenerlebnis
 _id5206
DTSTART:20260810T000000
LOCATION:Attenhofen\, \,  
END:VEVENT
END:VCALENDAR
