BEGIN:VCALENDAR
VERSION:2.0
PRODID:-//Sabre//Sabre VObject 4.5.6//EN
CALSCALE:GREGORIAN
BEGIN:VEVENT
UID:sabre-vobject-f76d16d3-0749-4a41-a861-15799411d1ec
DTSTAMP:20260420T122102Z
SUMMARY:Jubiläumsfahrt an den Bodensee - Konstanz
DESCRIPTION:https://osterrieder.de/reiseangebote/jubilaeumsfahrt-an-den-bod
 ensee-konstanz_id5196
DTSTART:20260425T000000
LOCATION:Konstanz\, \,  
END:VEVENT
END:VCALENDAR
