BEGIN:VCALENDAR
VERSION:2.0
PRODID:-//Sabre//Sabre VObject 4.5.6//EN
CALSCALE:GREGORIAN
BEGIN:VEVENT
UID:sabre-vobject-4e186cf7-d365-491e-9516-39acc97b9795
DTSTAMP:20260421T034453Z
SUMMARY:Treuefahrt in die Wildschönau
DESCRIPTION:https://osterrieder.de/reiseangebote/treuefahrt-in-die-wildscho
 enau_id5159
DTSTART:20260808T000000
LOCATION:Wildschönau\, \,  
END:VEVENT
END:VCALENDAR
