BEGIN:VCALENDAR
VERSION:2.0
PRODID:-//Sabre//Sabre VObject 4.5.6//EN
CALSCALE:GREGORIAN
BEGIN:VEVENT
UID:sabre-vobject-998c51f9-e8f1-4dec-96e1-6e8981c48633
DTSTAMP:20260421T020510Z
SUMMARY:Urlaub in der Wildschönau
DESCRIPTION:https://osterrieder.de/reiseangebote/urlaub-in-der-wildschoenau
 _id5157
DTSTART:20260808T000000
DTEND:20260815T000000
LOCATION:Hotel Tirolerhof\, Kirchen 275\, 6311 Wildschönau-Oberau
END:VEVENT
END:VCALENDAR
